BEGIN:VCALENDAR
VERSION:2.0
PRODID:-//Simi Valley Corvettes - ECPv6.15.12.2//NONSGML v1.0//EN
CALSCALE:GREGORIAN
METHOD:PUBLISH
X-ORIGINAL-URL:https://simivalleycorvettes.com
X-WR-CALDESC:Events for Simi Valley Corvettes
REFRESH-INTERVAL;VALUE=DURATION:PT1H
X-Robots-Tag:noindex
X-PUBLISHED-TTL:PT1H
BEGIN:VTIMEZONE
TZID:America/Los_Angeles
BEGIN:DAYLIGHT
TZOFFSETFROM:-0800
TZOFFSETTO:-0700
TZNAME:PDT
DTSTART:20200308T100000
END:DAYLIGHT
BEGIN:STANDARD
TZOFFSETFROM:-0700
TZOFFSETTO:-0800
TZNAME:PST
DTSTART:20201101T090000
END:STANDARD
BEGIN:DAYLIGHT
TZOFFSETFROM:-0800
TZOFFSETTO:-0700
TZNAME:PDT
DTSTART:20210314T100000
END:DAYLIGHT
BEGIN:STANDARD
TZOFFSETFROM:-0700
TZOFFSETTO:-0800
TZNAME:PST
DTSTART:20211107T090000
END:STANDARD
BEGIN:DAYLIGHT
TZOFFSETFROM:-0800
TZOFFSETTO:-0700
TZNAME:PDT
DTSTART:20220313T100000
END:DAYLIGHT
BEGIN:STANDARD
TZOFFSETFROM:-0700
TZOFFSETTO:-0800
TZNAME:PST
DTSTART:20221106T090000
END:STANDARD
BEGIN:DAYLIGHT
TZOFFSETFROM:-0800
TZOFFSETTO:-0700
TZNAME:PDT
DTSTART:20230312T100000
END:DAYLIGHT
BEGIN:STANDARD
TZOFFSETFROM:-0700
TZOFFSETTO:-0800
TZNAME:PST
DTSTART:20231105T090000
END:STANDARD
END:VTIMEZONE
BEGIN:VTIMEZONE
TZID:America/Denver
BEGIN:DAYLIGHT
TZOFFSETFROM:-0700
TZOFFSETTO:-0600
TZNAME:MDT
DTSTART:20200308T090000
END:DAYLIGHT
BEGIN:STANDARD
TZOFFSETFROM:-0600
TZOFFSETTO:-0700
TZNAME:MST
DTSTART:20201101T080000
END:STANDARD
BEGIN:DAYLIGHT
TZOFFSETFROM:-0700
TZOFFSETTO:-0600
TZNAME:MDT
DTSTART:20210314T090000
END:DAYLIGHT
BEGIN:STANDARD
TZOFFSETFROM:-0600
TZOFFSETTO:-0700
TZNAME:MST
DTSTART:20211107T080000
END:STANDARD
BEGIN:DAYLIGHT
TZOFFSETFROM:-0700
TZOFFSETTO:-0600
TZNAME:MDT
DTSTART:20220313T090000
END:DAYLIGHT
BEGIN:STANDARD
TZOFFSETFROM:-0600
TZOFFSETTO:-0700
TZNAME:MST
DTSTART:20221106T080000
END:STANDARD
BEGIN:DAYLIGHT
TZOFFSETFROM:-0700
TZOFFSETTO:-0600
TZNAME:MDT
DTSTART:20230312T090000
END:DAYLIGHT
BEGIN:STANDARD
TZOFFSETFROM:-0600
TZOFFSETTO:-0700
TZNAME:MST
DTSTART:20231105T080000
END:STANDARD
END:VTIMEZONE
BEGIN:VEVENT
DTSTART;TZID=America/Los_Angeles:20220212T080000
DTEND;TZID=America/Los_Angeles:20220212T170000
DTSTAMP:20260423T090202
CREATED:20211223T215509Z
LAST-MODIFIED:20211223T215510Z
UID:19347-1644652800-1644685200@simivalleycorvettes.com
SUMMARY:Calico Ghost Town (Saturday February 12\, 2022)
DESCRIPTION:Run to Yermo\, CA and visit Calico Ghost Town $8.00 admission. Following the park visit we’ll have lunch at Peggy Sues Diner. \n\n\n\nABOUT THE RUN:  \n\n\n\nCalico is an old West mining town that has been around since 1881 and was abandoned in the mid-1890s after silver lost its value. The town that once gave miners a good living lost its hustle and became a “ghost town.” \n\n\n\nWalter Knott purchased Calico in the 1950’s architecturally restoring all but the five original buildings to look as they did in the 1880’s. Calico received State Historical Landmark 782 and in 2005 was proclaimed by then Governor Arnold Schwarzenegger to be California’s Silver Rush Ghost Town. \n\n\n\nToday\, Calico is part of the San Bernardino County Regional Parks system\, which is visited by people from across the country and from all over the world. Along with its history and attractions\, Calico Ghost Town has shops\, restaurants and offers camping\, hiking and off-roading.
URL:https://simivalleycorvettes.com/event/calico-ghost-town-saturday-february-12-2022/
ATTACH;FMTTYPE=image/jpeg:https://simivalleycorvettes.com/wp-content/uploads/2021/12/calico-ghost-town.jpg
END:VEVENT
BEGIN:VEVENT
DTSTART;TZID=America/Los_Angeles:20220122T090000
DTEND;TZID=America/Los_Angeles:20220122T150000
DTSTAMP:20260423T090202
CREATED:20211117T161341Z
LAST-MODIFIED:20211223T235432Z
UID:19218-1642842000-1642863600@simivalleycorvettes.com
SUMMARY:SeaBee Museum (January 22\, 2022 10:00AM)
DESCRIPTION:Following the SeaBee Museum visit\, Lunch to be at Surfside  Restaurant – Channel Islands (Oxnard CA). \n\n\n\nOpens about 10:30 AM. Visit should take about 1-1/2 hours. Lunch will be at Surfside Restaurant 550 E Surfside Dr\, Port Hueneme\, CA 93041. Bring chairs to eat out by the beach. Meet at 9:00AM at Corner Bakery\, Simi Valley Town Center that morning. \n\n\n\nU.S. Navy Seabee Museum  3201 N Ventura Rd\, Port Hueneme\, CA 93043
URL:https://simivalleycorvettes.com/event/seabees-museum-date-tbd-january/
LOCATION:Seabees Museum\, 3201 N. Ventura Road Naval Base Ventura County PH\, Building 100\, Port Hueneme\, CA 93043\, ca\, 93043
ATTACH;FMTTYPE=image/jpeg:https://simivalleycorvettes.com/wp-content/uploads/2021/11/Seabee-Museum.jpg
END:VEVENT
BEGIN:VEVENT
DTSTART;TZID=America/Denver:20220109T110000
DTEND;TZID=America/Denver:20220109T130000
DTSTAMP:20260423T090202
CREATED:20211010T214246Z
LAST-MODIFIED:20220105T004604Z
UID:18505-1641726000-1641733200@simivalleycorvettes.com
SUMMARY:2022 Installation Brunch- (CANCELLED)
DESCRIPTION:
URL:https://simivalleycorvettes.com/event/2022-installation-brunch/
LOCATION:Grand Vista Hotel\, 999 Enchanted Way\, Simi Valley\, 93065
CATEGORIES:Celebrations
ATTACH;FMTTYPE=image/jpeg:https://simivalleycorvettes.com/wp-content/uploads/2020/01/DSC_5033mod10x8.jpg
END:VEVENT
BEGIN:VEVENT
DTSTART;TZID=America/Los_Angeles:20220101T120000
DTEND;TZID=America/Los_Angeles:20220101T120000
DTSTAMP:20260423T090202
CREATED:20211129T165439Z
LAST-MODIFIED:20211201T071159Z
UID:19272-1641038400-1641038400@simivalleycorvettes.com
SUMMARY:Little Coyote Long Beach TBD
DESCRIPTION:Please join us for lunch run to Long Beach Date TBD 2022 \n\n\n\nWe will be eating at Little Coyote Pizza. 3500 N. Los Coyotes Diagonal. Long Beach. \n\n\n\nSeveral of us ate lunch at their first location several months ago\, enjoyed it\, and this is their new additional location. \n\n\n\nI am including the menu for you to see. \n\n\n\nWe will meet at the McDonald’s on Balboa at 12:30 PM\, and will leave at 1:00 PM and then we will have a late lunch at 2 PM.
URL:https://simivalleycorvettes.com/event/little-coyote-lunch-run-long-beach/
LOCATION:Little Coyote Pizza. 3500 N. Los Coyotes Diagonal. Long Beach\, 3500 N. Los Coyotes\, Long Beach\, ca\, United States
END:VEVENT
BEGIN:VEVENT
DTSTART;TZID=America/Denver:20211211T180000
DTEND;TZID=America/Denver:20211211T223000
DTSTAMP:20260423T090202
CREATED:20210903T220931Z
LAST-MODIFIED:20210922T031751Z
UID:17878-1639245600-1639261800@simivalleycorvettes.com
SUMMARY:Holiday Party December 11\, 2021
DESCRIPTION:
URL:https://simivalleycorvettes.com/event/holiday-party-december-12-2021/
LOCATION:Grand Vista Hotel\, 999 Enchanted Way\, Simi Valley\, 93065
END:VEVENT
BEGIN:VEVENT
DTSTART;TZID=America/Denver:20211205T070000
DTEND;TZID=America/Denver:20211205T120000
DTSTAMP:20260423T090202
CREATED:20211101T060539Z
LAST-MODIFIED:20211124T001350Z
UID:18918-1638687600-1638705600@simivalleycorvettes.com
SUMMARY:Motor4Toys
DESCRIPTION:Charity Car Show & Toy Drive\n\n\n\n\n\n\n\n2019 Motor 4 Toys gift donations!\n\n\n\nCharity Toy Donation Club Run\n\n\n\nPlease bring new\, unwrapped toy(s) valuing $20 or more.  \n\n\n\nPlease observe all social distancing rules and regulations if attending.  \n\n\n\nPlease do not exit your vehicle\, staff members will assist if needed.  \n\n\n\nYou may also donate below. Motor4Toys is a non profit 501(C)3. \n\n\n\nMake a donation via PayPal\n\n\n\nhttps://www.paypal.com/webapps/shoppingcart?flowlogging_id=f96682776064d&mfid=1635746316900_f96682776064d#/checkout/openButton \n\n\n\n\n\nSimi Valley Corvettes Instructions\n\n\n\nPreliminary Information: Meet at Simi Valley Town Center 9:00AM…  The Simi group will join the SFV group at 9:30am at the McDonalds on 21901 Erwin St\,Woodland Hills…and we’ll caravan to Pierce College.  Following the Toy Drop Off\, we can drive over Topanga Canyon to the beach  and north to Ventura Harbor for lunch. TBD.
URL:https://simivalleycorvettes.com/event/motor4toys/
LOCATION:Pierce College\, 6201 Winnetka Ave.\, Woodland Hills\,\, California\, 91367
ATTACH;FMTTYPE=image/jpeg:https://simivalleycorvettes.com/wp-content/uploads/2021/10/2021_FLYER-e1635746515729.jpg
END:VEVENT
BEGIN:VEVENT
DTSTART;TZID=America/Los_Angeles:20211122T080000
DTEND;TZID=America/Los_Angeles:20211130T170000
DTSTAMP:20260423T090202
CREATED:20211122T234038Z
LAST-MODIFIED:20211122T234041Z
UID:19256-1637568000-1638291600@simivalleycorvettes.com
SUMMARY:Lavaggio Offer 30% Discount
DESCRIPTION:Lavaggio’s Black Friday is Here! Save 30% on all Gift Cards. Limited Time Only Monday 11/22 thru Tuesday 11/30. Available in-Store & On-line www.lavaggio.net \n\n\n\nwww.lavaggio.net \n\n\n\n\n\n\n\nCar Wash starts at $79.00…See here the menu of services:
URL:https://simivalleycorvettes.com/event/lavaggio-offer-30-discount/
ATTACH;FMTTYPE=image/png:https://simivalleycorvettes.com/wp-content/uploads/2021/11/BlackFridayGiftCardFront.png
END:VEVENT
BEGIN:VEVENT
DTSTART;TZID=America/Denver:20211120T093000
DTEND;TZID=America/Denver:20211120T120000
DTSTAMP:20260423T090202
CREATED:20210904T022627Z
LAST-MODIFIED:20211010T215220Z
UID:17910-1637400600-1637409600@simivalleycorvettes.com
SUMMARY:Ronald Reagan Presidential Library November 20\, 2021
DESCRIPTION: FBI Exhibit and Christmas Trees\n\n\n\n\n\n\nPlease follow link below to view details and RSVP to this new run\n\n\n\n\n\nRonald Reagan Library Tour \n\n\n\n\nExhibits include FBI Exhibit & CHRISTMAS AROUND THE WORLD\nwith 26 decorated trees.The cost is $26.95 per person\, which is a group price of 25 or more people. Payment Due date: November 1\, 2021. Send check to Club Treasurer.\nThis includes a self-guided tour with audio devices.\nMeet Up Time : 9am. @ Simi Town Center Corner Bakery\nLeave at 9:15We will plan on having lunch at a restaurant afterwards.\nAdditional Info as we get closer see your Agenda for more details.\nRun Chair: Bob & Cathy S.
URL:https://simivalleycorvettes.com/event/ronald-reagan-presidential-library-november-20-2021/
LOCATION:Ronald Reagan Presidential Library\, 40 Presidential Dr\,\, Simi Valley\, CA\, United States
CATEGORIES:Run
ATTACH;FMTTYPE=image/png:https://simivalleycorvettes.com/wp-content/uploads/2021/09/1200px-Seal_of_the_Ronald_Reagan_Presidential_Library.svg_-e1633902498922.png
END:VEVENT
BEGIN:VEVENT
DTSTART;VALUE=DATE:20211113
DTEND;VALUE=DATE:20211114
DTSTAMP:20260423T090202
CREATED:20210908T033256Z
LAST-MODIFIED:20211021T054616Z
UID:18246-1636761600-1636847999@simivalleycorvettes.com
SUMMARY:CANCELLED: Willow Springs - Drive Your Own Corvette
DESCRIPTION:EVENT CANCELLED: Simi Valley Corvettes takes tio the track at Willow Springs Raceway Saturday November 13 8:00AM.  Snacks at Franks house too! Call Frank C. for details. You must RSVP with Speed Ventures. (Details Below) \nSpeed Ventures\nNovember 13\, 2021 @ 8:00am – 5:00pm\nTrack: 2.5 mile course \nCars on the 2.5 mile big track \nAdmission Details:\n15$ per person kids 8 and under are free \n\n\n\n\n\nGreetings Speed Ventures Drivers\,\n\nThank you for signing up for our event at Willow Springs International Raceway. Please read the following carefully to ensure that the event runs smoothly for everyone.\n\nAll drivers\, especially those new to Speed Ventures\, should be familiar with our General Regulations: https://www.speedventures.com/The-Line/SV-Driver-Orientation-Manual2021.pdf\n\nAll beginners should also read our Beginner Orientation Handbook which will help you prepare for your first track day: https://www.speedventures.com/The-Line/SpeedVenturesBeginnersHandbook2021In-Car.pdf\n\n1). PAYMENT: If you are paying by Pay Pal or check\, please make sure that your payment is received no later than 2 days after you sign up\, or you may lose your reservation. If you are planning to pay at the track\, you must get approval in advance.\n\n2). LOCATION: Willow Springs International Raceway is located at 3500 75th Street West in Rosamond\, CA. Take the Rosamond Blvd exit off the 14 freeway and proceed west for six miles until you reach the track entrance. Please note that there is a $15/person gate fee charged by the track for all entrants (including spectators).\n\n3). A PRINTED SCHEDULE will be emailed out a day or two before the event and provided at registration when you check-in. You should plan to show up at the track 60-90 minutes before your first meeting. This meeting is MANDATORY for all drivers unless you have received prior clearance to miss it. Check-in generally begins at 7:00am. Please come to registration first BEFORE unloading/prepping your car to be sure you do not potentially miss your first run session of the day!\n\n4). FOOD & DRINK: The snack bar will be open for breakfast and lunch.\n\n5). CAR NUMBERS: You must have car numbers\, at least 8″ tall\, located on both sides and either the front or back of your vehicle. This is mandatory for all drivers. You can make up a 3-digit number – we will notify you if it is in use by another driver at the track. If you do not have numbers or tape\, we will have tape available at the track which you can use.\n\n6). Either a TOW HOOK or some TOW POINT is highly recommended on the FRONT (and recommended on the REAR) of your car before going out on track. The important thing is that you have appropriate tow points figured out that we can hook on to in order to tow you off track. Please determine appropriate tow points – it is your responsibility and we will not be responsible for any damage done to your car. If you do not have a tow-point\, we will be forced to figure one out on the fly.\n\n7). TRANSPONDERS: If you forget to turn in your transponder at the conclusion of an event\, you will be responsible for shipping it back ASAP. See the FAQ section at http://www.speedventures.com/Faqs/Default.aspx for shipping instructions. In addition\, a $20 administration fee may be charged to process your return.\n\n8). The TECH FORM is a must-have at the event. It can be filled out and signed by you\, your mechanic\, or whoever is responsible for ensuring that your car is safe and sound for high speed performance driving: http://www.speedventures.com/events/tech.pdf\n\n9). There is also a track event checklist available if you’re not sure what you should bring: https://www.speedventures.com/Events/trackchecklist.doc\n\n\nAs always\, the FAQ should answer the most commonly-asked questions: http://www.speedventures.com/Faqs/Default.aspx\n\nSee you bright and early at the track!\n\nThanks\,\n\nThe Speed Ventures Crew\n323-973-7744\nwww.speedventures.com
URL:https://simivalleycorvettes.com/event/willow-springs-drive-your-own-corvette/
LOCATION:Willow Springs International Raceway\, 3500 75th St W\, Rosamond\, CA\, 93560\, United States
CATEGORIES:Run
ATTACH;FMTTYPE=image/jpeg:https://simivalleycorvettes.com/wp-content/uploads/2021/09/willowsprings.jpg
END:VEVENT
BEGIN:VEVENT
DTSTART;TZID=America/Denver:20211107T070000
DTEND;TZID=America/Denver:20211107T100000
DTSTAMP:20260423T090202
CREATED:20211031T214214Z
LAST-MODIFIED:20211031T215507Z
UID:18904-1636268400-1636279200@simivalleycorvettes.com
SUMMARY:Supercar Sunday
DESCRIPTION:A very exciting announcement\, Supercar Sunday is back!  \n\n\n\nOn Sunday\, November 7th\, from 7-10am\, Supercar Sunday will restart!  \n\n\n\nSIMI VALLEY CORVETTES INSTRUCTIONS: No Host Run.  Meet at Simi Valley Town Center (7:00AM)  or for SFV dwellers… Meet at McDonalds on Desoto/Devonshire (20932 Devonshire\, Chatsworth CA.) (7:15AM). The Simi group will join the SFV group.\\, and we all can caravan to Pierce College together. RSVP below\, \n\n\n\n\n\nA very special thank you to our presenting sponsor\, Porsche Woodland Hills ( @porsche_woodlandhills ) for supporting Supercar Sunday\, the car community and car enthusiasts everywhere! A tremendous amount of appreciation goes to the entire Porsche Woodland Hills Team!  \n\n\n\nOur first Sunday back\, we will be featuring a Porsche Marque! Get ready to see some amazing Porsches! We will have corral parking for all Porsches.We would also like to recognize Pierce College and their amazing team. A very special thank you to our local law enforcement who always participate with Supercar Sunday.  \n\n\n\nThank you to the Los Angeles County Sheriff’s Department who provide security at Pierce College and our friends at the LAPD and CHP who attend and support our community. We appreciate and respect all of our law enforcement partners.  \n\n\n\nWe would like to remind everyone that Supercar Sunday is a community event. As such\, we expect everyone to observe all rules of the road and of Supercar Sunday. Absolutely\, no racing\, revving\, peeling out\, music\, etc. Supercar Sunday is a safe space for all car enthusiasts and we always come from a place of courtesy and respect. Please observe all rules of the CDC and the State of California regarding Covid-19. Please practice social distancing. Masks are required. Please do not attend if you do not feel well. Complimentary masks and sanitizer will be available.  \n\n\n\nFor more information:Dustin@connectedmediagroup.com
URL:https://simivalleycorvettes.com/event/supercar-sunday/
LOCATION:Pierce College\, 6201 Winnetka Ave.\, Woodland Hills\,\, California\, 91367
ATTACH;FMTTYPE=image/jpeg:https://simivalleycorvettes.com/wp-content/uploads/2021/10/SCS_RETURNS_-1-757x1024-1.jpg
ORGANIZER;CN="Supercar Sunday":MAILTO:Dustin@connectedmediagroup.com
END:VEVENT
BEGIN:VEVENT
DTSTART;VALUE=DATE:20211026
DTEND;VALUE=DATE:20211027
DTSTAMP:20260423T090202
CREATED:20211020T143029Z
LAST-MODIFIED:20211020T184220Z
UID:18698-1635206400-1635238800@simivalleycorvettes.com
SUMMARY:"Run for Reveal"  Tue. Oct 26 $15.00 : 2023 CHEVROLET CORVETTE Z06
DESCRIPTION:2023 Corvette Z06 FIRST-TIME ON DISPLAY AT THE PETERSEN AUTOMOTIVE MUSEUM\nRUN DETAIL: Meet at Simi Valley Town Center Tuesday October 26\, 2021 11:45AM. Senior Admission $15 must be purchased online  in advance. Contact Cheryl & Louis S. for details. We’re driving to: Petersen Automotive Museum 6060 WILSHIRE BOULEVARD\, LOS ANGELES\, CA\, 90036\, We will be going to Maggiano’s at The Grove for a late lunch/early dinner after the Petersen Museum. \nADVANCE TICKET PURCHASE REQUIRED! Museum General Admission: Senior (62+) : $15.00; Adult : $17.00 : https://www.petersen.org/tickets \nCome see the new 2023 Corvette Z06 in person at the Petersen Automotive Museum! After its official debut on October 26\, the 2023 Z06 will remain on display at the Petersen for just a few short days. This is the FIRST AND ONLY place to see this amazing supercar up close and personal. \nThe 2023 Corvette Z06 will be on display from October 26 through October 29. You won’t want to miss it! \nhttps://www.petersen.org/2023-z06 \n \nConvenient onsite parking is available at the museum. Parking is free for the first 30 minutes. Parking for visitors with disabilities is provided on level P1. The Petersen has 3 EV charging ports for electric vehicles located on the south side of P1. The parking garage entrance is located on Fairfax Avenue. \nFirst 30 minutes: FREE\nPetersen Visitors (ticketed): $17\nNon-Petersen Visitors (unticketed): $21\nAll day with museum store purchase of $75: FREE
URL:https://simivalleycorvettes.com/event/run-for-reveal-2023-chevrolet-corvette-z06/
LOCATION:Petersen Automotive Museum\, 6060 WILSHIRE BOULEVARD\, LOS ANGELES\, CA\, 90036\, United States
ATTACH;FMTTYPE=image/jpeg:https://simivalleycorvettes.com/wp-content/uploads/2021/10/FBMFn_tWQAoYGaN-e1634747982354.jpeg
END:VEVENT
END:VCALENDAR