BEGIN:VCALENDAR
VERSION:2.0
PRODID:-//Simi Valley Corvettes - ECPv6.15.12.2//NONSGML v1.0//EN
CALSCALE:GREGORIAN
METHOD:PUBLISH
X-ORIGINAL-URL:https://simivalleycorvettes.com
X-WR-CALDESC:Events for Simi Valley Corvettes
REFRESH-INTERVAL;VALUE=DURATION:PT1H
X-Robots-Tag:noindex
X-PUBLISHED-TTL:PT1H
BEGIN:VTIMEZONE
TZID:America/Los_Angeles
BEGIN:DAYLIGHT
TZOFFSETFROM:-0800
TZOFFSETTO:-0700
TZNAME:PDT
DTSTART:20220313T100000
END:DAYLIGHT
BEGIN:STANDARD
TZOFFSETFROM:-0700
TZOFFSETTO:-0800
TZNAME:PST
DTSTART:20221106T090000
END:STANDARD
BEGIN:DAYLIGHT
TZOFFSETFROM:-0800
TZOFFSETTO:-0700
TZNAME:PDT
DTSTART:20230312T100000
END:DAYLIGHT
BEGIN:STANDARD
TZOFFSETFROM:-0700
TZOFFSETTO:-0800
TZNAME:PST
DTSTART:20231105T090000
END:STANDARD
BEGIN:DAYLIGHT
TZOFFSETFROM:-0800
TZOFFSETTO:-0700
TZNAME:PDT
DTSTART:20240310T100000
END:DAYLIGHT
BEGIN:STANDARD
TZOFFSETFROM:-0700
TZOFFSETTO:-0800
TZNAME:PST
DTSTART:20241103T090000
END:STANDARD
BEGIN:DAYLIGHT
TZOFFSETFROM:-0800
TZOFFSETTO:-0700
TZNAME:PDT
DTSTART:20250309T100000
END:DAYLIGHT
BEGIN:STANDARD
TZOFFSETFROM:-0700
TZOFFSETTO:-0800
TZNAME:PST
DTSTART:20251102T090000
END:STANDARD
END:VTIMEZONE
BEGIN:VEVENT
DTSTART;TZID=America/Los_Angeles:20240927T080000
DTEND;TZID=America/Los_Angeles:20240929T170000
DTSTAMP:20260422T233301
CREATED:20240604T065127Z
LAST-MODIFIED:20240604T065127Z
UID:21834-1727424000-1727629200@simivalleycorvettes.com
SUMMARY:Prescott Car Show (September 27-28\, 2024)
DESCRIPTION:9/27-28/2024 Friday-Saturday  \nPrescott Car Show Lead Skip & Marilyn B  \nSign- up Sheet available  \nPrescott Vette Sette 
URL:https://simivalleycorvettes.com/event/prescott-car-show-september-27-28-2024/
CATEGORIES:Car Show,Run
ATTACH;FMTTYPE=image/jpeg:https://simivalleycorvettes.com/wp-content/uploads/2022/05/20605_Vette-Sette-1686724386.jpeg
END:VEVENT
BEGIN:VEVENT
DTSTART;TZID=America/Los_Angeles:20240921T073000
DTEND;TZID=America/Los_Angeles:20240921T150000
DTSTAMP:20260422T233301
CREATED:20240918T133019Z
LAST-MODIFIED:20240918T133019Z
UID:21967-1726903800-1726930800@simivalleycorvettes.com
SUMMARY:Long Beach  Harbor Cruise Tour
DESCRIPTION:Long Beach harbor cruise. 90 minute boat tour. FREE. September 21 7:30 AM. \nFor more information contact Bob P.
URL:https://simivalleycorvettes.com/event/long-beach-harbor-cruise-tour/
CATEGORIES:Event
ATTACH;FMTTYPE=image/jpeg:https://simivalleycorvettes.com/wp-content/uploads/2024/09/gilligan01.jpg
END:VEVENT
BEGIN:VEVENT
DTSTART;VALUE=DATE:20240912
DTEND;VALUE=DATE:20240916
DTSTAMP:20260422T233301
CREATED:20240604T064626Z
LAST-MODIFIED:20240604T064626Z
UID:21832-1726099200-1726444799@simivalleycorvettes.com
SUMMARY:Silver State Classic Challenge (September 12\, 2024)
DESCRIPTION:9/12-15/2024 Silver State Classic Challenge – Randy R.  \non Nevada State Highway 318 
URL:https://simivalleycorvettes.com/event/silver-state-classic-challenge-september-12-2024/
CATEGORIES:Run
ATTACH;FMTTYPE=image/jpeg:https://simivalleycorvettes.com/wp-content/uploads/2021/10/car-racer-black-simple-icon-isolated-white-background-car-racer-black-simple-icon-125399116-19.jpg
END:VEVENT
BEGIN:VEVENT
DTSTART;VALUE=DATE:20240908
DTEND;VALUE=DATE:20240909
DTSTAMP:20260422T233301
CREATED:20240604T064328Z
LAST-MODIFIED:20240604T064646Z
UID:21830-1725753600-1725839999@simivalleycorvettes.com
SUMMARY:Cops N’ Cruisers Car Show (September 8\, 2024)
DESCRIPTION:9/8/2024 Cops N’ Cruisers Car Show. Lead: Karen P Registration  \nSign up sheet avail.  \nRegistration not yet open. 
URL:https://simivalleycorvettes.com/event/cops-car-show/
CATEGORIES:Car Show
ATTACH;FMTTYPE=image/png:https://simivalleycorvettes.com/wp-content/uploads/2023/12/royalcarshow.png
END:VEVENT
BEGIN:VEVENT
DTSTART;VALUE=DATE:20240821
DTEND;VALUE=DATE:20240903
DTSTAMP:20260422T233301
CREATED:20220701T005838Z
LAST-MODIFIED:20231014T060458Z
UID:20097-1724198400-1725321599@simivalleycorvettes.com
SUMMARY:National Corvette Caravan to NCM (Summer 2024)
DESCRIPTION:Webpage Simi Valley Corvettes Lodging \n\nWe will stop in Las Vegas\, Nevada rather than Henderson on the first night. Our second overnight is Bryce Canyon City\, Utah. \nOnce we start east on I-70 we have some other stops in the planning stages and are hoping to firm those up soon. On Day Four\, we cross the Rockies. We’ll drive though picturesque Glenwood Canyon. We’ll pass Vail and other ski resorts and then\, at over 11\,000-feet\, drive through the Eisen- hower-Johnson Tunnel. From there we’ll continue on I-70\, down the slopes of the Colorado front range\, through Denver and an overnight part way across Kansas to Colby\, KS.. On the fifth day we head to Kansas City\, Missouri and then on to Cape Girardeau MO on Day Six. \nThe evening in Cape G was a huge hit in 2014 and 2019. The city rolls out the Red Carpet for sev- eral Caravan Sections in this picturesque “Main Street USA” town on the west bank of the Missis- sippi River. The event\, “Corvettes in Cape\,” is put on by the Corvette Club of southeastern Missouri and the Cape Girardeau Visitor’s Bureau. \nMain St. is a block west of the River and in the afternoon and evening a two-block section of it is closed to traffic and becomes a Corvette show-and-shine. The entire town celebrates America’s Sports car with live bands\, food booths\, beer gardens and other fun activities centered around the Corvette Caravan. \nThat will be our final night on the road. The National Corvette Caravan ends the next afternoon at National Corvette Museum in Bowling Green. \nIn total\, we’ll have six nights and seven days on the road. The National Corvette Museum 30th An- niversary Activities begin on Thursday\, August 29th 2024 and continue through Saturday\, August 31. \n\n\n\n\nFirst\, we have this page you are reading on the Caravan website. We\, also\, have the Southwest Caravan eNews\, a tradition going back to 2003. If you are not a subscriber\, send email to SWeNews@netmotive.net and simply type “subscribe” in the body of the email. Past eNews issues are available for download elsewhere on this page. \n\n\n\nFinally\, you can email or call members of the Southwest Caravan Organizing Team for information. \n\n\n\nCapt. Bill Herold: swcaravancaptain@gmail.com  (805) 402-7490 \n\n\n\nCmd. Tony Megowan: tmegowan@outlook.com  (805) 659-5056 \n\n\n\nCmd. Doug Campbell \n\n\n\nCmd. Hib Halverson: SWsectionXO@netmotive.net  (805) 685-6865
URL:https://simivalleycorvettes.com/event/national-corvette-caravan-to-ncm-summer-2024/
CATEGORIES:Run
ATTACH;FMTTYPE=image/png:https://simivalleycorvettes.com/wp-content/uploads/2022/06/SouthwestSection-300x253-1.png
END:VEVENT
BEGIN:VEVENT
DTSTART;TZID=America/Los_Angeles:20240818T150000
DTEND;TZID=America/Los_Angeles:20240818T190000
DTSTAMP:20260422T233301
CREATED:20240604T064044Z
LAST-MODIFIED:20240604T064044Z
UID:21828-1723993200-1724007600@simivalleycorvettes.com
SUMMARY:Club Picnic (August 18\, 2024)
DESCRIPTION:8/18/2024 Sunday  \n3-7 pm Club Picnic; Lead: E-Board  \nRancho Tapo Community Park (Lemon Park) 3700 Avenida Simi\, Simi Valley\, CA 93063  \nMore info to come. 
URL:https://simivalleycorvettes.com/event/picnic/
CATEGORIES:Celebrations,Event
ATTACH;FMTTYPE=image/jpeg:https://simivalleycorvettes.com/wp-content/uploads/2021/11/DSCN16222021Picnic.jpg
END:VEVENT
BEGIN:VEVENT
DTSTART;TZID=America/Los_Angeles:20240803T073000
DTEND;TZID=America/Los_Angeles:20240803T150000
DTSTAMP:20260422T233301
CREATED:20240702T060842Z
LAST-MODIFIED:20240702T060842Z
UID:21855-1722670200-1722697200@simivalleycorvettes.com
SUMMARY:Long Beach Harbor Tour (8/3/2024 Saturday )
DESCRIPTION:8/3/2024 Saturday  \nLong Beach Harbor 90 Min Tour – lead – Bob Paris  \nSaturday morning tour on August 3rd The Port of Long Beach offers a free 90-minute tour\, via boat.  \nMeet at McDonald’s on Balboa in Granada Hills at 7:30 am for an 8:00 departure  \nPark at Aquarium of the Pacific  \n10:00 am tour\, followed by lunch at Chili’s at 11:30.  \nSign Up at the website https://polb.com/community/harbor-tours/#harbor-tours-info-and-registration  \nand also on the signup sheet at the club meeting  \n**Note: Due to extremely high demand\, registration is on a lottery basis. You will either receive a slot on a tour or be placed on a waiting list.  \nLottery registration occurs on the third Monday of the month for the following month’s tours\, from 8 a.m. to 8 p.m. The form to register for the lottery will be available at that time on this page.  \nPlease read FAQs for information 
URL:https://simivalleycorvettes.com/event/long-beach-harbor-tour/
CATEGORIES:Event,Run
ATTACH;FMTTYPE=image/jpeg:https://simivalleycorvettes.com/wp-content/uploads/2024/07/view-on-harbor-bridge-3482513421.jpg
END:VEVENT
BEGIN:VEVENT
DTSTART;TZID=America/Los_Angeles:20240720T100000
DTEND;TZID=America/Los_Angeles:20240720T160000
DTSTAMP:20260422T233301
CREATED:20240604T063637Z
LAST-MODIFIED:20240604T063637Z
UID:21823-1721469600-1721491200@simivalleycorvettes.com
SUMMARY:Lunch Run Dukes - Malibu (July 20\, 2024)
DESCRIPTION:7/20/2024 Saturday  \n10:00 AM – Lunch at Dukes in Malibu – Lead: Ray K.  \nMeet at Simi Valley Town Center Corner Bakery at 10 AM  \nDrive to Sloan’s Ice Cream following lunch for Dessert.  \nSee sign-up sheet. 
URL:https://simivalleycorvettes.com/event/dukes/
LOCATION:Dukes
ATTACH;FMTTYPE=image/jpeg:https://simivalleycorvettes.com/wp-content/uploads/2024/06/dukes-2108499552.jpg
END:VEVENT
BEGIN:VEVENT
DTSTART;TZID=America/Los_Angeles:20240713T193000
DTEND;TZID=America/Los_Angeles:20240713T220000
DTSTAMP:20260422T233301
CREATED:20240604T070430Z
LAST-MODIFIED:20240702T061142Z
UID:21842-1720899000-1720908000@simivalleycorvettes.com
SUMMARY:Movie Night -  NEW date (July 13\, 2024)
DESCRIPTION:7/13/2024 Saturday  \n7:30 pm Movie Night @ Bolnick’s Charity Fundraiser –  \nSign-up sheet available. $5 pp for charity  \nMovie treats provided and water and coffee; Bring anything else you want  \nBring chairs\, jackets. We will be outside 
URL:https://simivalleycorvettes.com/event/movie-night/
CATEGORIES:Event
ATTACH;FMTTYPE=image/jpeg:https://simivalleycorvettes.com/wp-content/uploads/2023/08/movienight.jpg
END:VEVENT
BEGIN:VEVENT
DTSTART;TZID=America/Los_Angeles:20240706T170000
DTEND;TZID=America/Los_Angeles:20240706T220000
DTSTAMP:20260422T233301
CREATED:20240604T062333Z
LAST-MODIFIED:20240702T061446Z
UID:21813-1720285200-1720303200@simivalleycorvettes.com
SUMMARY:Fourth of July/SVC 40th Anniversary Celebration (July 6\, 2024 - 5PM)
DESCRIPTION:7/6/2024 Saturday 5PM \nFourth of July/SVC 40th Anniversary Celebration  \nTo be held at the home of Eric & Thelma L. Saturday\, July 6th. Fourth of July & SVC 40th Anniversary Celebration\, at the home of Eric & Thelma L. Live music from the Beatles cover band “The Beatunes”.  \nCatered BBQ; $25 per person – Sign up and pay ASAP\, no refunds after June 30th \n  \n  \n 
URL:https://simivalleycorvettes.com/event/anniversary/
CATEGORIES:Celebrations,Event
ATTACH;FMTTYPE=image/png:https://simivalleycorvettes.com/wp-content/uploads/2024/01/40years-anniversary-design-red-1984web.png
END:VEVENT
BEGIN:VEVENT
DTSTART;TZID=America/Los_Angeles:20240620T183000
DTEND;TZID=America/Los_Angeles:20240620T203000
DTSTAMP:20260422T233301
CREATED:20240604T063041Z
LAST-MODIFIED:20240604T063041Z
UID:21817-1718908200-1718915400@simivalleycorvettes.com
SUMMARY:Charity Dinner at Mikey’s (June 20\, 2024)
DESCRIPTION:6/20/2024 – Thursday  \n6:30 pm Charity Dinner at Mikey’s – Gregg Jackie B.  \nSign up sheet avail . $5.00 per person will be collected at the event for our charity fund raising  \nMikey’s Restaurant  \n579 North Ventu Park Road  \nNewbury Park\, CA. 91320  \nhttps://www.mikeysrestaurantca.com/ 
URL:https://simivalleycorvettes.com/event/mikey/
LOCATION:Mikey’s 579 North Ventu Park Road   Newbury Park\, CA. 91320\, 579 North Ventu Park Road \, Newbury Park\,\, CA\, United States
CATEGORIES:Event
ATTACH;FMTTYPE=image/jpeg:https://simivalleycorvettes.com/wp-content/uploads/2024/06/o-822639002.jpg
END:VEVENT
BEGIN:VEVENT
DTSTART;VALUE=DATE:20240615
DTEND;VALUE=DATE:20240616
DTSTAMP:20260422T233301
CREATED:20231212T074613Z
LAST-MODIFIED:20231212T075315Z
UID:21724-1718409600-1718495999@simivalleycorvettes.com
SUMMARY:Calvary Westlake Church Car Show.    ( Saturday June 15\, 2024)
DESCRIPTION:    June 15\, 2024 (Sat.):  Calvary Westlake Church Car Show.    (Lead:  Barry L.)
URL:https://simivalleycorvettes.com/event/calvary-westlake-church-car-show-saturday-june-15-2024/
CATEGORIES:Car Show
ATTACH;FMTTYPE=image/jpeg:https://simivalleycorvettes.com/wp-content/uploads/2023/12/62352981_918586078480957_3155530528413712384_o_918586075147624-59517629.jpg
END:VEVENT
BEGIN:VEVENT
DTSTART;TZID=America/Los_Angeles:20240608T103000
DTEND;TZID=America/Los_Angeles:20240608T150000
DTSTAMP:20260422T233301
CREATED:20240604T061303Z
LAST-MODIFIED:20240604T061303Z
UID:21810-1717842600-1717858800@simivalleycorvettes.com
SUMMARY:Lunch Run to Agave Marias Mexican Restaurant Ojai (June 8\, 2024)
DESCRIPTION:6/8/2024 Saturday  \nLunch Run to Agave Marias Mexican Restaurant & Cantina – lead: Liz & Dale P.  \nMeet at Simi Town Center – Corner Bakery at 10:30  \nAgave Maria’s 106 Montgomery St.\, Ojai 93023  \nText Liz by Friday 6/7 
URL:https://simivalleycorvettes.com/event/agave-marias/
CATEGORIES:Run
ATTACH;FMTTYPE=image/png:https://simivalleycorvettes.com/wp-content/uploads/2024/06/54qJt5df8B-4039365737.png
END:VEVENT
BEGIN:VEVENT
DTSTART;VALUE=DATE:20240505
DTEND;VALUE=DATE:20240513
DTSTAMP:20260422T233301
CREATED:20230916T204130Z
LAST-MODIFIED:20240117T225338Z
UID:21456-1714867200-1715558399@simivalleycorvettes.com
SUMMARY:Route 66 Run to Grand Canyon May 5-12\, 2024 (New Dates)
DESCRIPTION:Get your Kicks on Route 66\nSimi Valley Corvettes: We will drive our vettes to Arizona through historic Route 66 in Williams\, ride the train and tour the South Rim\, then on to Winslow.  This 7-day 6-night\, May 5-12 Road trip through the deserts\, mesas\, and sites of California and Arizona is hard to beat. We’ll marvel at the vastness of the Grand Canyon and the Petrified Forest National Parks. Hitting the open road on a road trip through the southwest with stops along Route 66 is about as American as apple pie! The open road is calling\, and few road trips are as awe-inspiring as a drive from Southern California to the Grand Canyon. Click here webpage for details and  reservation information. \nUPDATE: New Dates and Details NEW-SVCC Route 66 Grand Canyon Run 2024-1.9.24\n 
URL:https://simivalleycorvettes.com/event/route-66-run-to-grand-canyon-may-5-11-2024/
CATEGORIES:Run
ATTACH;FMTTYPE=image/png:https://simivalleycorvettes.com/wp-content/uploads/2023/09/grandcanyonsunsetbanner.png
END:VEVENT
BEGIN:VEVENT
DTSTART;TZID=America/Los_Angeles:20240421T090000
DTEND;TZID=America/Los_Angeles:20240421T140000
DTSTAMP:20260422T233301
CREATED:20231212T075206Z
LAST-MODIFIED:20231212T075521Z
UID:21727-1713690000-1713708000@simivalleycorvettes.com
SUMMARY:Royal High School  7th Annual Car Show (Sunday April 21\, 2024)
DESCRIPTION:Royal High School \n7th Annual Car Show \n Sunday\, April 21\, 2024 9:00 am – 2:00 pm  \n1402 Royal Ave\, Simi Valley\, CA 93065  \n For more information  \nEmail: ashley.rotellini@simivalleyusd.org  \nStadium & Gym Parking Lot  \n Proceeds benefit Royal High School Athletics  \nSilent Auction\, Vendors\, Food Trucks\, Music  \n CHECK IN TIME  \n6:30 – 8:30 AM  \nJUDGING BEGINS AT  \n11:00 AM  \nTROPHY PRESENTATIONS  \n1:00 PM 
URL:https://simivalleycorvettes.com/event/royal-high-school-7th-annual-car-show-sunday-april-21-2024/
LOCATION:Royal High School
CATEGORIES:Car Show
ATTACH;FMTTYPE=image/png:https://simivalleycorvettes.com/wp-content/uploads/2023/12/royalcarshow.png
END:VEVENT
BEGIN:VEVENT
DTSTART;VALUE=DATE:20240418
DTEND;VALUE=DATE:20240419
DTSTAMP:20260422T233301
CREATED:20231030T133809Z
LAST-MODIFIED:20231030T133809Z
UID:21683-1713398400-1713484799@simivalleycorvettes.com
SUMMARY:Gambler's Classic Car Show (April 18-20\, 2024)
DESCRIPTION:Gambler’s Classic Car Show (April 18-20\, 2024)\nhttps://corvettesofbakersfield.org/events/gamblers/ \nGet ready for an automotive extravaganza like no other as the Corvettes of Bakersfield proudly present the eagerly anticipated Gambler’s Classic 2024. Building upon the triumph of previous editions\, the 24th Gambler’s Classic vows to set new benchmarks. The preceding year’s event attracted 33 Corvette clubs from across the western US. Scheduled for April 18-20\, 2024\, at Don Laughlin’s Resort and Casino in Laughlin\, NV\, Gambler’s Classic 2024 – All Corvette Car Show promises a stunning showcase of sleek and powerful Corvettes spanning various generations\, celebrating the timeless charm of this iconic American brand. The event adopts a patriotic theme\, “Celebrating America’s Sports Car\,” enveloping attendees in the red\, white\, and blue spirit. \nPrepare for three days of Corvette camaraderie\, offering a platform to make new friends\, share conversations\, enjoy laughter\, indulge in delicious food\, dance\, drive\, display your car\, and perhaps try your luck at gambling. The event includes not only an all Corvette car show but also a fun run and a poker run. Staying true to tradition\, the event underscores the Corvettes of Bakersfield’s commitment to giving back to their supportive community. By engaging in fundraising activities targeted at local charities\, participants can revel in the knowledge that their shared passion is effecting positive change and leaving an enduring impact on the lives of others. \nMark your calendars and rev up your anticipation\, because Gambler’s Classic 2024 is on the horizon. Enjoy a celebration of the vibrant community formed around these extraordinary vehicles. Whether you’re a seasoned Corvette enthusiast or a curious newcomer\, the event offers a welcoming environment where the passion for Corvettes unites people from all walks of life. The Corvettes of Bakersfield cordially extend their invitation to partake in this unparalleled experience. Limited to the first 300 people.
URL:https://simivalleycorvettes.com/event/gamblers-classic-car-show-april-18-20-2024/
CATEGORIES:Car Show,Run
ATTACH;FMTTYPE=image/png:https://simivalleycorvettes.com/wp-content/uploads/2023/10/GC24Web_1200-copy-1024x384-1.png
END:VEVENT
BEGIN:VEVENT
DTSTART;VALUE=DATE:20240321
DTEND;VALUE=DATE:20240323
DTSTAMP:20260422T233301
CREATED:20231212T072143Z
LAST-MODIFIED:20231212T072143Z
UID:21719-1710979200-1711151999@simivalleycorvettes.com
SUMMARY:Mendenhall Museum in Buellton\, CA (March 21-22\, 2024)
DESCRIPTION:Run to Mendenhall Museum in Buellton.  This is a fun filled weekend with multiple options for lodging.  RVs can get a site at the resort (avg rate for pull thru is $101.)  Non campers can book a stay in Surf Cabins (avg. rate $253) or book a room at Sideways Hotel for (avg rate of $155.)  RVs would arrive on 3/21/24 and provide Happy Hour and a Hot Dog/Hamburger dinner for those arriving in corvettes the next day (3/22/24.)  Please reserve @ 1-805-691-8086.  Group Reference: Simi Vally Corvettes.       (Lead: Liz & Dale P.)
URL:https://simivalleycorvettes.com/event/mendenhall-museum-in-buellton-ca-march-21-22-2024/
CATEGORIES:Run
ATTACH;FMTTYPE=image/jpeg:https://simivalleycorvettes.com/wp-content/uploads/2023/12/Mendenhall-Buelton-1024x683-1024x585-868983026.jpg
END:VEVENT
BEGIN:VEVENT
DTSTART;TZID=America/Los_Angeles:20240220T170000
DTEND;TZID=America/Los_Angeles:20240220T190000
DTSTAMP:20260422T233301
CREATED:20240117T224331Z
LAST-MODIFIED:20240117T224502Z
UID:21773-1708448400-1708455600@simivalleycorvettes.com
SUMMARY:Second Meeting of Month
DESCRIPTION:Second Meeting of Month (Not at Senior Center) Tues. Feb 20\, 2024\nMay be held at The Junkyard Cafe in Simi Valley. 5PM-7PM \nPlease contact Liz P. for details
URL:https://simivalleycorvettes.com/event/second-meeting-of-month/
LOCATION:The Junkyard Cafe\, 2585 Cochran Ave\, simi valley\, CA\, United States
ATTACH;FMTTYPE=image/jpeg:https://simivalleycorvettes.com/wp-content/uploads/2024/01/junkyard.jpg
END:VEVENT
BEGIN:VEVENT
DTSTART;VALUE=DATE:20240209
DTEND;VALUE=DATE:20240212
DTSTAMP:20260422T233301
CREATED:20240117T223715Z
LAST-MODIFIED:20240117T223715Z
UID:21771-1707436800-1707695999@simivalleycorvettes.com
SUMMARY:Cambria Rest & relaxation Run (Fri Feb. 9-11\, 2024)
DESCRIPTION:Cambria Rest & relaxation Run (Fri Feb. 9-11\, 2024) \nWine Tasting and more. \nCambria Pines Lodge \nLiz. P run Lead.
URL:https://simivalleycorvettes.com/event/cambria-rest-relaxation-run-fri-feb-9-11-2024/
LOCATION:Cambria Pines Lodge\, Cambria\, California\, United States
ATTACH;FMTTYPE=image/jpeg:https://simivalleycorvettes.com/wp-content/uploads/2022/05/Cambria-Pines-Lodge-logo.jpg
END:VEVENT
BEGIN:VEVENT
DTSTART;TZID=America/Los_Angeles:20240120T100000
DTEND;TZID=America/Los_Angeles:20240120T120000
DTSTAMP:20260422T233301
CREATED:20231224T004637Z
LAST-MODIFIED:20231224T004637Z
UID:21732-1705744800-1705752000@simivalleycorvettes.com
SUMMARY:Celebration of Life for Flo Livingston (  Saturday Jan. 20\, 2024)
DESCRIPTION:Celebration of Life for Flo Livingston \nJan. 20\, 2024 (Sat.):   \n Westlake Calvary Church at 10am. \nMore information will be forth coming \nCorvette Line-up appreciated!
URL:https://simivalleycorvettes.com/event/celebration-of-life-for-flo-livingston-saturday-jan-20-2024/
CATEGORIES:Event
ATTACH;FMTTYPE=image/png:https://simivalleycorvettes.com/wp-content/uploads/2023/12/flo-livingston.png
END:VEVENT
BEGIN:VEVENT
DTSTART;TZID=America/Los_Angeles:20240107T110000
DTEND;TZID=America/Los_Angeles:20240107T150000
DTSTAMP:20260422T233301
CREATED:20231212T071540Z
LAST-MODIFIED:20231212T071540Z
UID:21716-1704625200-1704639600@simivalleycorvettes.com
SUMMARY:Annual Installation Brunch (Sun. January 7\, 2024)
DESCRIPTION:Annual Installation Brunch (Sun. January 7\, 2024) \nInstallation of new SVCC Board officers at the Grand Vista Hotel.  Once again we will enjoy a delicious brunch.  The time is 11am-3pm.  The cost is $50pp.   
URL:https://simivalleycorvettes.com/event/annual-installation-brunch-sun-january-7-2024/
LOCATION:Grand Vista Hotel\, 999 Enchanted Way\, Simi Valley\, 93065
CATEGORIES:Event
ATTACH;FMTTYPE=image/jpeg:https://simivalleycorvettes.com/wp-content/uploads/2023/01/IMG_3835small.jpg
END:VEVENT
BEGIN:VEVENT
DTSTART;TZID=America/Los_Angeles:20231217T170000
DTEND;TZID=America/Los_Angeles:20231217T220000
DTSTAMP:20260422T233301
CREATED:20231212T072606Z
LAST-MODIFIED:20231212T072606Z
UID:21722-1702832400-1702850400@simivalleycorvettes.com
SUMMARY:Simi Valley Holiday Lights Viewing (Sunday December 17\, 2023 5PM)
DESCRIPTION:Holiday Light Run Holiday Light Run starting with a dinner at 5pm at the Junkyard in Simi and then a fabulous display of holiday lights through Simi Valley and into Candy Cane Lane in Woodland Hills.    (Lead:  Liz & Dale P.)
URL:https://simivalleycorvettes.com/event/simi-valley-holiday-lights-viewing-sunday-december-17-2023-5pm/
CATEGORIES:Event
ATTACH;FMTTYPE=image/jpeg:https://simivalleycorvettes.com/wp-content/uploads/2022/12/Resized-20221211-175206svcc-santa-2022.jpg
END:VEVENT
BEGIN:VEVENT
DTSTART;TZID=America/Los_Angeles:20231216T173000
DTEND;TZID=America/Los_Angeles:20231216T230000
DTSTAMP:20260422T233301
CREATED:20230327T152826Z
LAST-MODIFIED:20230327T152827Z
UID:21157-1702747800-1702767600@simivalleycorvettes.com
SUMMARY:Holiday Party - Dinner & Dance (Dec. 16\, 2023)
DESCRIPTION:Dec. 16 (Sat.):  December Holiday Party:  Marilyn B.\, Chery M. and Traci N. have volunteered to be the chairs for this year’s party.  The Grand Vista Hotel will again host our event.   If anyone has suggestions for the event\, please contact either of them and they will explore all ideas.
URL:https://simivalleycorvettes.com/event/holiday-party-2023/
LOCATION:Grand Vista Hotel\, 999 Enchanted Way\, Simi Valley\, 93065
CATEGORIES:Event
ATTACH;FMTTYPE=image/jpeg:https://simivalleycorvettes.com/wp-content/uploads/2022/12/20221210_190854heit.jpg
END:VEVENT
BEGIN:VEVENT
DTSTART;VALUE=DATE:20231216
DTEND;VALUE=DATE:20231217
DTSTAMP:20260422T233301
CREATED:20230803T165416Z
LAST-MODIFIED:20230803T165531Z
UID:21415-1702684800-1702771199@simivalleycorvettes.com
SUMMARY:Framed Posters for Charity Raffle (Dec. 16 2023)
DESCRIPTION:Framed Posters Raffle \n  \n  \n  \n  \n  \n  \n  \n  \n  \n  \n  \n  \n  \n  \n  \n  \n  \n  \n  \n  \n  \n  \n  \n  \n  \n  \n  \n  \n  \n  \n  \n  \n  \n  \n  \n$2.00 per ticket entry \nDrawing at December 2023 Holiday Party \nSteve F. Organizer.
URL:https://simivalleycorvettes.com/event/framed-posters-for-charity-raffle-dec-2023/
ATTACH;FMTTYPE=image/jpeg:https://simivalleycorvettes.com/wp-content/uploads/2023/08/Charity-print2-raffle-2023IMG_1404-scaled.jpg
END:VEVENT
BEGIN:VEVENT
DTSTART;TZID=America/Los_Angeles:20231203T070000
DTEND;TZID=America/Los_Angeles:20231203T100000
DTSTAMP:20260422T233301
CREATED:20230723T134921Z
LAST-MODIFIED:20230723T134921Z
UID:21350-1701586800-1701597600@simivalleycorvettes.com
SUMMARY:Motor 4 Toys - Pierce College (Sun. Dec 3)
DESCRIPTION:Motor 4 Toys Annual Toy Drive\nSunday Dec. 3 \nPierce College
URL:https://simivalleycorvettes.com/event/motor-4-toys-pierce-college-sun-dec-3/
LOCATION:Pierce College\, 6201 Winnetka Ave.\, Woodland Hills\,\, California\, 91367
CATEGORIES:Car Show
END:VEVENT
BEGIN:VEVENT
DTSTART;TZID=America/Los_Angeles:20231028T170000
DTEND;TZID=America/Los_Angeles:20231028T220000
DTSTAMP:20260422T233301
CREATED:20230116T141050Z
LAST-MODIFIED:20230116T141312Z
UID:20972-1698512400-1698530400@simivalleycorvettes.com
SUMMARY:Halloween Party (October 28\, 2023)
DESCRIPTION:Halloween Party (October 28\, 2023) Saturday: Danielle B. House. Stay Tuned for Details. An evnt to die for…….
URL:https://simivalleycorvettes.com/event/halloween-party-october-28-2023/
CATEGORIES:Celebrations
ATTACH;FMTTYPE=image/jpeg:https://simivalleycorvettes.com/wp-content/uploads/2023/01/IMG_3546small.jpg
END:VEVENT
BEGIN:VEVENT
DTSTART;VALUE=DATE:20231020
DTEND;VALUE=DATE:20231023
DTSTAMP:20260422T233301
CREATED:20230205T162827Z
LAST-MODIFIED:20230723T132221Z
UID:21061-1697760000-1698019199@simivalleycorvettes.com
SUMMARY:Cambria Scarecrow Festival NEW DATE (Oct. 20-22\, 2023)
DESCRIPTION:Oct. 20-22:  Cambria Scarecrow Festival in Cambria Pines.  Sightseeing of all the great scarecrows (over 500 at this time) which are set up all over Cambria by citizens.  Fun\, Food and Friends for Fall !!!!   More details to come. (Leads:  Maddy\, Marilyn D.\, Linda\, Joanna & Liz)
URL:https://simivalleycorvettes.com/event/cambria-scarecrow/
CATEGORIES:Run
ATTACH;FMTTYPE=image/jpeg:https://simivalleycorvettes.com/wp-content/uploads/2023/02/cambria-scarecrows.jpg
END:VEVENT
BEGIN:VEVENT
DTSTART;VALUE=DATE:20231014
DTEND;VALUE=DATE:20231015
DTSTAMP:20260422T233301
CREATED:20230327T153427Z
LAST-MODIFIED:20230327T153428Z
UID:21159-1697241600-1697327999@simivalleycorvettes.com
SUMMARY:Palm Springs Air Museum (Oct. 14\, 2023)
DESCRIPTION:Oct. 14 (Sat.): Tour of Palm Springs Air Museum.  (Leads:  Steve A. &  Bob S.)
URL:https://simivalleycorvettes.com/event/palm-springs-air-museum-oct-14-2023/
CATEGORIES:Run
ATTACH;FMTTYPE=image/jpeg:https://simivalleycorvettes.com/wp-content/uploads/2023/03/th-4187661836.jpg
END:VEVENT
BEGIN:VEVENT
DTSTART;VALUE=DATE:20230922
DTEND;VALUE=DATE:20230925
DTSTAMP:20260422T233301
CREATED:20230310T164639Z
LAST-MODIFIED:20230803T162558Z
UID:21147-1695340800-1695599999@simivalleycorvettes.com
SUMMARY:2023 Prescott Vette Sette Car Show (9/20-24/2023)
DESCRIPTION:Prescott AZ\, Run to the Prescott Vette Sette Car Show\nSeptember 22-24\, 2023\nAquarius Hotel Casino – Sept. 20 (1 Night) \nBest Western Prescottonian Sept. 21-24 (3 Nights)
URL:https://simivalleycorvettes.com/event/2023-prescott-vette-sette-car-show/
CATEGORIES:Car Show,Run
ATTACH;FMTTYPE=image/jpeg:https://simivalleycorvettes.com/wp-content/uploads/2023/03/history.jpg
END:VEVENT
BEGIN:VEVENT
DTSTART;TZID=America/Los_Angeles:20230908T180000
DTEND;TZID=America/Los_Angeles:20230908T210000
DTSTAMP:20260422T233301
CREATED:20230728T053151Z
LAST-MODIFIED:20230803T162629Z
UID:21355-1694196000-1694206800@simivalleycorvettes.com
SUMMARY:Homemade Pasta Dinner for Charity (Fri. Sept. 8)
DESCRIPTION:Sept. 8 (Fri.):  Charity Pasta Dinner at home of Joanna & Steve R.  Details to come.  (Leads: Charity Committee) \n$25.00 Per person
URL:https://simivalleycorvettes.com/event/pasta-dinner/
CATEGORIES:Event
ATTACH;FMTTYPE=image/jpeg:https://simivalleycorvettes.com/wp-content/uploads/2022/09/52351516549_6713183190_osantamariasantamaria-small-1-scaled.jpg
END:VEVENT
END:VCALENDAR